BEGIN:VCALENDAR
VERSION:2.0
PRODID:-//Grand Est Développement - ECPv6.15.18//NONSGML v1.0//EN
CALSCALE:GREGORIAN
METHOD:PUBLISH
X-WR-CALNAME:Grand Est Développement
X-ORIGINAL-URL:https://www.grandestdeveloppement.fr
X-WR-CALDESC:Évènements pour Grand Est Développement
REFRESH-INTERVAL;VALUE=DURATION:PT1H
X-Robots-Tag:noindex
X-PUBLISHED-TTL:PT1H
BEGIN:VTIMEZONE
TZID:Europe/Paris
BEGIN:DAYLIGHT
TZOFFSETFROM:+0100
TZOFFSETTO:+0200
TZNAME:CEST
DTSTART:20230326T010000
END:DAYLIGHT
BEGIN:STANDARD
TZOFFSETFROM:+0200
TZOFFSETTO:+0100
TZNAME:CET
DTSTART:20231029T010000
END:STANDARD
BEGIN:DAYLIGHT
TZOFFSETFROM:+0100
TZOFFSETTO:+0200
TZNAME:CEST
DTSTART:20240331T010000
END:DAYLIGHT
BEGIN:STANDARD
TZOFFSETFROM:+0200
TZOFFSETTO:+0100
TZNAME:CET
DTSTART:20241027T010000
END:STANDARD
BEGIN:DAYLIGHT
TZOFFSETFROM:+0100
TZOFFSETTO:+0200
TZNAME:CEST
DTSTART:20250330T010000
END:DAYLIGHT
BEGIN:STANDARD
TZOFFSETFROM:+0200
TZOFFSETTO:+0100
TZNAME:CET
DTSTART:20251026T010000
END:STANDARD
END:VTIMEZONE
BEGIN:VEVENT
DTSTART;TZID=Europe/Paris:20240409T080000
DTEND;TZID=Europe/Paris:20240409T110000
DTSTAMP:20260421T192951
CREATED:20240328T100723Z
LAST-MODIFIED:20240328T102612Z
UID:5217-1712649600-1712660400@www.grandestdeveloppement.fr
SUMMARY:ATELIER | Crédit Impôt Recherche
DESCRIPTION:Entreprises\, participez à un atelier sur le thème du Crédit Impôts Recherche (CIR) et apprenez en plus sur le statut Jeune Entreprise Innovante (JEI) \, le fonctionnement du CIR et l’intérêt du rescrit. \nLes services\, en région Grand Est\, de l’administration fiscale et du Ministère de l’Enseignement Supérieur et de la Recherche\, organisent un atelier destiné aux entreprises sur le thème du crédit d’impôt recherche. \nProfitez d’un regard croisé en région Grand Est de l’administration fiscale et du Ministère de l’Enseignement supérieur et de la Recherche.
URL:https://www.grandestdeveloppement.fr/evenement/atelier-credit-impot-recherche/
LOCATION:Stadium Université de Strasbourg
ATTACH;FMTTYPE=image/png:https://www.grandestdeveloppement.fr/wp-content/uploads/2024/03/cir-9-avril.png
END:VEVENT
END:VCALENDAR