BEGIN:VCALENDAR
VERSION:2.0
PRODID:-//Grand Est Développement - ECPv6.15.18//NONSGML v1.0//EN
CALSCALE:GREGORIAN
METHOD:PUBLISH
X-WR-CALNAME:Grand Est Développement
X-ORIGINAL-URL:https://www.grandestdeveloppement.fr
X-WR-CALDESC:Évènements pour Grand Est Développement
REFRESH-INTERVAL;VALUE=DURATION:PT1H
X-Robots-Tag:noindex
X-PUBLISHED-TTL:PT1H
BEGIN:VTIMEZONE
TZID:Europe/Paris
BEGIN:DAYLIGHT
TZOFFSETFROM:+0100
TZOFFSETTO:+0200
TZNAME:CEST
DTSTART:20210328T010000
END:DAYLIGHT
BEGIN:STANDARD
TZOFFSETFROM:+0200
TZOFFSETTO:+0100
TZNAME:CET
DTSTART:20211031T010000
END:STANDARD
BEGIN:DAYLIGHT
TZOFFSETFROM:+0100
TZOFFSETTO:+0200
TZNAME:CEST
DTSTART:20220327T010000
END:DAYLIGHT
BEGIN:STANDARD
TZOFFSETFROM:+0200
TZOFFSETTO:+0100
TZNAME:CET
DTSTART:20221030T010000
END:STANDARD
BEGIN:DAYLIGHT
TZOFFSETFROM:+0100
TZOFFSETTO:+0200
TZNAME:CEST
DTSTART:20230326T010000
END:DAYLIGHT
BEGIN:STANDARD
TZOFFSETFROM:+0200
TZOFFSETTO:+0100
TZNAME:CET
DTSTART:20231029T010000
END:STANDARD
END:VTIMEZONE
BEGIN:VEVENT
DTSTART;VALUE=DATE:20221129
DTEND;VALUE=DATE:20221201
DTSTAMP:20260421T101708
CREATED:20210921T071121Z
LAST-MODIFIED:20220408T111515Z
UID:1581-1669680000-1669852799@www.grandestdeveloppement.fr
SUMMARY:BE 4.0 Salon Industries du Futur Mulhouse 2022
DESCRIPTION:Participez à 2 jours dédiés au business\, aux échanges et à l’innovation\n\nLe salon-congrès BE 4.0 : \n\nmet en lumière l’excellence opérationnelle et de la créativité de 300 offreurs de solutions de France\, d’Allemagne et de Suisse\nprovoque la rencontre industriels et experts européens de la transformation 4.0. avec retours d’expériences\, meet-up\, plénières\, B2B meetings\, parcours thématiques…\nprésente des acteurs du Grand Est qui conseillent et accompagnent les entreprises vers leur transition 4.0\, le soutien des promoteurs du 4.0 aux trois frontières.
URL:https://www.grandestdeveloppement.fr/evenement/copie-de-be-4-0-salon-industries-du-futur-mulhouse-2021/
LOCATION:Parc des Expositions\, 120 Rue Lefebvre\, MULHOUSE\, Haut-Rhin\, 68100
ATTACH;FMTTYPE=image/png:https://www.grandestdeveloppement.fr/wp-content/uploads/2021/09/BE_2022.png
ORGANIZER;CN="MULHOUSE EXPO SAEML":MAILTO:aleder@parcexpo.fr
END:VEVENT
END:VCALENDAR