BEGIN:VCALENDAR
VERSION:2.0
PRODID:-//Grand Est Développement - ECPv6.15.18//NONSGML v1.0//EN
CALSCALE:GREGORIAN
METHOD:PUBLISH
X-WR-CALNAME:Grand Est Développement
X-ORIGINAL-URL:https://www.grandestdeveloppement.fr
X-WR-CALDESC:Évènements pour Grand Est Développement
REFRESH-INTERVAL;VALUE=DURATION:PT1H
X-Robots-Tag:noindex
X-PUBLISHED-TTL:PT1H
BEGIN:VTIMEZONE
TZID:Europe/Paris
BEGIN:DAYLIGHT
TZOFFSETFROM:+0100
TZOFFSETTO:+0200
TZNAME:CEST
DTSTART:20210328T010000
END:DAYLIGHT
BEGIN:STANDARD
TZOFFSETFROM:+0200
TZOFFSETTO:+0100
TZNAME:CET
DTSTART:20211031T010000
END:STANDARD
BEGIN:DAYLIGHT
TZOFFSETFROM:+0100
TZOFFSETTO:+0200
TZNAME:CEST
DTSTART:20220327T010000
END:DAYLIGHT
BEGIN:STANDARD
TZOFFSETFROM:+0200
TZOFFSETTO:+0100
TZNAME:CET
DTSTART:20221030T010000
END:STANDARD
BEGIN:DAYLIGHT
TZOFFSETFROM:+0100
TZOFFSETTO:+0200
TZNAME:CEST
DTSTART:20230326T010000
END:DAYLIGHT
BEGIN:STANDARD
TZOFFSETFROM:+0200
TZOFFSETTO:+0100
TZNAME:CET
DTSTART:20231029T010000
END:STANDARD
END:VTIMEZONE
BEGIN:VEVENT
DTSTART;TZID=Europe/Paris:20220701T090000
DTEND;TZID=Europe/Paris:20220701T170000
DTSTAMP:20260425T181132
CREATED:20220408T070347Z
LAST-MODIFIED:20220613T140444Z
UID:2020-1656666000-1656694800@www.grandestdeveloppement.fr
SUMMARY:Séminaire scientifique sur les biocarburants liquides et gazeux en Grand Est
DESCRIPTION:La Mission Bioéconomie de la Région Grand Est\, avec le soutien de Bioeconomy for Change et Grand E-Nov+\, vous propose un Séminaire scientifique sur les biocarburants liquides et gazeux en Région Grand Est le vendredi 1er juillet. \n  \nS’inscrire \n  \nAvec l’ambition de faire de la Région Grand Est un leader européen de la bioéconomie\, le Conseil Régional a fait le choix d’encourager et de soutenir le développement des biocarburants durables sur le territoire. \nDans la continuité de la charte du développement durable des biocarburants signée en 2020\, un contrat de filière sur les biocarburants durables a été co-construit entre la Région et les acteurs des biocarburants liquides et gazeux du territoire. Adopté en septembre 2021 sous l’impulsion de la Région\, 47 partenaires ont depuis rejoint le contrat. \nDans un contexte de réchauffement climatique\, de la fluctuation des prix des matières premières\, de préoccupations sur la sécurité des approvisionnements en énergie ainsi que de l’évolution récente de la situation géopolitique en Europe\, les biocarburants constituent une ressource énergétique alternative et renouvelable\, produite à partir de biomasse. Selon l’origine de la biomasse utilisée et les procédés de transformation associés\, on distingue trois catégories de biocarburants. Si la première génération a désormais atteint le stade industriel\, la seconde génération en phase de développement et la troisième génération à base d’algues doivent encore adresser d’importants enjeux en termes de recherche\, développement et innovation. \nAu cœur de cette dynamique\, le séminaire scientifique sera l’occasion faire un état des lieux des travaux de recherche menés par les experts académiques et du transfert technique de la Région sur les biocarburants liquides et gazeux. Cette rencontre sera l’occasion à la fois de présenter un panorama des projets en mettant en lumière les verrous scientifiques et techniques déjà levés ou à lever et de mettre en relation les acteurs académiques et industriels. \n  \nInscription gratuite mais obligatoire \n  \nProgramme provisoire\n9h00 – 9h30 | Accueil des participants \n  \n9h30 – 9h45 |    Introduction \nPhilippe MANGIN\, Vice-Président du conseil régional du Grand Est \n9h45 – 10h45 |  1ère session de présentation des travaux scientifiques sur le volet traitement de la biomasse \nPrésentation 1  “S’affranchir de la récalcitrance de la biomasse”\nLaboratoire d’études et de recherche sur le matériau bois (LERMAB)\, Université de Lorraine\nNicolas BROSSE\, Professeur d’Université \nPrésentation 2 “Compréhension de la récalcitrance à la conversion biologique de la biomasse lignocellulosique”\nFARE (Fractionnement des Agro-Ressources et Environnement) URCA / INRAE Reims\nGabriel PAES\, Directeur de Recherche et directeur d’unit \nPrésentation 3 “Panorama des travaux de la Chaire de Biotechnologie sur les biocarburants”\nLaboratoire de Génie des Procédés et Matériaux (LGPM)\, Chaire de biotechnologie de CentraleSupélec\nJulien LEMAIRE\, Maître de Conférences\, Responsable de l’axe « Techniques Séparatives » \n9h30 – 9h45 | Questions & Réponses \n  \n10h45 –11h00 | Pause \n  \n11h00 – 12h00 | Table ronde – Biocarburants avancés : modèle économique et perspectives \nKeynote B4C Etat des lieux des biocarburants \nRegards croisés sur les perspectives :\nIntervenant à confirmer\, CEA TECH Grand Est\nElen RIOT\, MCF-HDR -REGARDS\, URCA\nLaurent FALK\, Laboratoire Réactions et Génie des Procédés (LRGP)\, Université de Lorraine\nIntervenant à confirmer\, IFPEN \n12h00 – 12h15 | Conclusion de la matinée\nGrand Témoin \n  \n12h15 – 13h45 | Pause déjeuner \n  \n13h45 – 15h00 | 2ème session de présentation des travaux scientifiques sur le volet production \nPrésentation 4  “Pyrogazéification pour H2 et biochar”\nLaboratoire Réactions et Génie des Procédés (LRGP – CNRS)\, Université de Lorraine\nGuillain MAUVIEL\, Professeur des universités \nPrésentation 5  “Méthanation biologique de H2 et CO2 issu de méthanisation”\nTMA-Process  – Projet Methagrid\nMarc-André THEOLEYRE\, Président de TMA Process\nLaure Deschamps ingénieure d’études URD ABI AgroParisTech \nPrésentation 6 “Bioproduction de méthane et d’hydrogène”\nLaboratoire Réactions et Génie des Procédés (LRGP – CNRS)\, Université de Lorraine\nStéphane DELAUNAY\, Professeur des Universités \nPrésentation 7 “Bioproduction d’hydrogène par fermentation obscure”\nInstitut Pluridisciplinaire Hubert Curien (IPHC – CNRS)\, Université de Strasbourg\nBarbara ERNST\, Professeur des Universités \n14h45 – 15h00 | Questions & Réponses \n15h00 – 16h00 |  3ème session de présentation des travaux scientifiques sur le volet de l’aval et les usages \nPrésentation 8 “Impact des biocarburants sur le vieillissement des carburants usuels”\nLaboratoire Réactions et Génie des Procédés (LRGP – CNRS)\, Université de Lorraine\nPierre-Alexandre GLAUDE\, Directeur de Recherche CNRS \nPrésentation 9 “E-CÔME : Valorisation de CO2 en e-carburants »\nInstitut de chimie et procédés pour l’énergie\, l’environnement et la santé (ICPEES)\, CNRS- Université de Strasbourg\nKsenia PARKHOMENKO\, Chargée de recherche CNRS \nPrésentation 10 “Le retrofit BioGNV : décarboner et valoriser l’existant dans le routier\, le fluvial et le ferroviaire”\nGRDF Réseau Gaz\nArancha BODEN\, Chef de projet \n15h45 – 16h00 | Questions & Réponses \n  \n16h00 – 16h15 | Conclusion de la journée
URL:https://www.grandestdeveloppement.fr/evenement/seminaire-scientifique-sur-les-biocarburants-liquides-et-gazeux-en-grand-est/
LOCATION:Hôtel de Région Metz\, Place Gabriel Hocquard\, METZ\, 57000\, France
CATEGORIES:Séminaire
ATTACH;FMTTYPE=image/jpeg:https://www.grandestdeveloppement.fr/wp-content/uploads/2022/04/seminaire-scientifique-bioecnomie-29-avril.jpg
END:VEVENT
END:VCALENDAR